BEGIN:VCALENDAR
VERSION:2.0
PRODID:-// - ECPv6.15.20//NONSGML v1.0//EN
CALSCALE:GREGORIAN
METHOD:PUBLISH
X-ORIGINAL-URL:https://gothamswingclub.org
X-WR-CALDESC:Events for 
REFRESH-INTERVAL;VALUE=DURATION:PT1H
X-Robots-Tag:noindex
X-PUBLISHED-TTL:PT1H
BEGIN:VTIMEZONE
TZID:America/New_York
BEGIN:DAYLIGHT
TZOFFSETFROM:-0500
TZOFFSETTO:-0400
TZNAME:EDT
DTSTART:20210314T070000
END:DAYLIGHT
BEGIN:STANDARD
TZOFFSETFROM:-0400
TZOFFSETTO:-0500
TZNAME:EST
DTSTART:20211107T060000
END:STANDARD
BEGIN:DAYLIGHT
TZOFFSETFROM:-0500
TZOFFSETTO:-0400
TZNAME:EDT
DTSTART:20220313T070000
END:DAYLIGHT
BEGIN:STANDARD
TZOFFSETFROM:-0400
TZOFFSETTO:-0500
TZNAME:EST
DTSTART:20221106T060000
END:STANDARD
BEGIN:DAYLIGHT
TZOFFSETFROM:-0500
TZOFFSETTO:-0400
TZNAME:EDT
DTSTART:20230312T070000
END:DAYLIGHT
BEGIN:STANDARD
TZOFFSETFROM:-0400
TZOFFSETTO:-0500
TZNAME:EST
DTSTART:20231105T060000
END:STANDARD
END:VTIMEZONE
BEGIN:VEVENT
DTSTART;TZID=America/New_York:20220709T203000
DTEND;TZID=America/New_York:20220710T003000
DTSTAMP:20260423T184107
CREATED:20220622T164444Z
LAST-MODIFIED:20220705T153806Z
UID:2104-1657398600-1657413000@gothamswingclub.org
SUMMARY:Gotham Soul
DESCRIPTION:Location:            Ballroom Hub – 412 8th Avenue\, 4th Fl\, NYCTime:                  8:30 p.m. – 12:30 a.m.\n8:30-9:00 Lesson (both beginner and intermediate) / 9:00-12:30 Open Dancing\nAdmission:         $15 for members / $20 for non-members (a $1 transaction fee will apply to all PayPal/Credit Card transactions)\nInstructor:           Steve Neeren\nDJ:                     Steve Neeren – Intermediate / Gotham Board – Beginner \nAdmission to the dance will be limited to vaccinated parties.  Reflecting current CDC recommendations\, masks will be optional. Each person has the right to choose their level of safety while dancing\, so you may want to at least bring a mask to dance with the greatest number of partners. If CDC rules change\, we will review accordingly. \nIf you’d like to join us\, here are the rules:\n\nYou must show proof of vaccination status (vaccine card or vaccine passport)\, either on your phone or hard copy\, together with a photo ID that matches the name on the vaccine card/passport.\nYou must have had your second dose of Moderna/Pfizer or your single dose of J&J on or before June 28\, 2022\nYou must provide your name and a phone number for contact tracing purposes\n\nFor the safety of all\, there will be no exceptions made to these rules.  So make sure you have your vaccine info and your ID with you before you head out to the dance.  Gotham’s vaccine policy is here Gotham Swing Club COVID-19 Attendance Policy\nWe can’t wait to see you on the dance floor!
URL:https://gothamswingclub.org/event/gotham-soul-5/
END:VEVENT
END:VCALENDAR