BEGIN:VCALENDAR
VERSION:2.0
PRODID:-// - ECPv6.15.20//NONSGML v1.0//EN
CALSCALE:GREGORIAN
METHOD:PUBLISH
X-ORIGINAL-URL:https://gothamswingclub.org
X-WR-CALDESC:Events for 
REFRESH-INTERVAL;VALUE=DURATION:PT1H
X-Robots-Tag:noindex
X-PUBLISHED-TTL:PT1H
BEGIN:VTIMEZONE
TZID:America/New_York
BEGIN:DAYLIGHT
TZOFFSETFROM:-0500
TZOFFSETTO:-0400
TZNAME:EDT
DTSTART:20220313T070000
END:DAYLIGHT
BEGIN:STANDARD
TZOFFSETFROM:-0400
TZOFFSETTO:-0500
TZNAME:EST
DTSTART:20221106T060000
END:STANDARD
BEGIN:DAYLIGHT
TZOFFSETFROM:-0500
TZOFFSETTO:-0400
TZNAME:EDT
DTSTART:20230312T070000
END:DAYLIGHT
BEGIN:STANDARD
TZOFFSETFROM:-0400
TZOFFSETTO:-0500
TZNAME:EST
DTSTART:20231105T060000
END:STANDARD
BEGIN:DAYLIGHT
TZOFFSETFROM:-0500
TZOFFSETTO:-0400
TZNAME:EDT
DTSTART:20240310T070000
END:DAYLIGHT
BEGIN:STANDARD
TZOFFSETFROM:-0400
TZOFFSETTO:-0500
TZNAME:EST
DTSTART:20241103T060000
END:STANDARD
END:VTIMEZONE
BEGIN:VEVENT
DTSTART;TZID=America/New_York:20230506T203000
DTEND;TZID=America/New_York:20230507T003000
DTSTAMP:20260423T043543
CREATED:20230407T131144Z
LAST-MODIFIED:20230411T161320Z
UID:2183-1683405000-1683419400@gothamswingclub.org
SUMMARY:Gotham Soul
DESCRIPTION:May 6th\, 8:30 pm – 12:30 am EDT\n\n\n\nLocation:            Little Dreams (the space formerly known as Club 412) – 412 8th Avenue\, 4th Fl\,  NYCTime:                  8:30 p.m. – 12:30 a.m. (Lesson at 8:30\, Social starts at 9:00)\nAdmission:         $15 for members / $20 for non-members (a $1 transaction fee will apply to all PayPal/Credit Card transactions)\nInstructor:           Intermediate (Glen Acheampong)/ Beginner (Gotham Board)\nDJ:                     Marlon Mills \n\n\nGotham has revised its attendance policies.  Starting with our October 8\, 2022 dance and workshops: \n\nWe will continue to require dancers to provide a phone number or email address for contract tracing purposes but will not be requiring proof of vaccination.\nMasks will not be required.  However\, we support and encourage anyone who wishes to wear a mask and we ask that everyone be respectful of any dancer choosing to wear a mask.\nIf you are not feeling well or have any flu or COVID symptoms\, please practice common sense and stay home for your safety and the safety of our dance community.\n\nGotham will be reviewing these policies regularly and reserves the right to reinstate the vaccination requirement and/or to require proof of an updated booster or masking in the future
URL:https://gothamswingclub.org/event/gotham-soul-11/
LOCATION:Little Dreams Ballroom\, 412 Eighth Ave 4th Floor\, New York\, NY\, 10001\, United States
END:VEVENT
END:VCALENDAR