BEGIN:VCALENDAR
VERSION:2.0
PRODID:-// - ECPv6.15.20//NONSGML v1.0//EN
CALSCALE:GREGORIAN
METHOD:PUBLISH
X-ORIGINAL-URL:https://gothamswingclub.org
X-WR-CALDESC:Events for 
REFRESH-INTERVAL;VALUE=DURATION:PT1H
X-Robots-Tag:noindex
X-PUBLISHED-TTL:PT1H
BEGIN:VTIMEZONE
TZID:America/New_York
BEGIN:DAYLIGHT
TZOFFSETFROM:-0500
TZOFFSETTO:-0400
TZNAME:EDT
DTSTART:20220313T070000
END:DAYLIGHT
BEGIN:STANDARD
TZOFFSETFROM:-0400
TZOFFSETTO:-0500
TZNAME:EST
DTSTART:20221106T060000
END:STANDARD
BEGIN:DAYLIGHT
TZOFFSETFROM:-0500
TZOFFSETTO:-0400
TZNAME:EDT
DTSTART:20230312T070000
END:DAYLIGHT
BEGIN:STANDARD
TZOFFSETFROM:-0400
TZOFFSETTO:-0500
TZNAME:EST
DTSTART:20231105T060000
END:STANDARD
BEGIN:DAYLIGHT
TZOFFSETFROM:-0500
TZOFFSETTO:-0400
TZNAME:EDT
DTSTART:20240310T070000
END:DAYLIGHT
BEGIN:STANDARD
TZOFFSETFROM:-0400
TZOFFSETTO:-0500
TZNAME:EST
DTSTART:20241103T060000
END:STANDARD
END:VTIMEZONE
BEGIN:VEVENT
DTSTART;TZID=America/New_York:20230805T200000
DTEND;TZID=America/New_York:20230806T000100
DTSTAMP:20260423T011921
CREATED:20230412T124137Z
LAST-MODIFIED:20230711T160035Z
UID:2194-1691265600-1691280060@gothamswingclub.org
SUMMARY:Gotham Soul - MEMBER DAY!!
DESCRIPTION:August 5th\, 8:00 pm – 12:00 am EDT (NEW START TIME)\n\n\n\nLocation:            Little Dreams (the space formerly known as Club 412) – 412 8th Avenue\, 4th Fl\,  NYCTime:                  8:00 p.m. – 12:00 a.m. (Lesson at 8:00\, Social starts at 8:30)\nAdmission:         FREE for members / $20 for non-members (a $1 transaction fee will apply to all PayPal/Credit Card transactions)\nInstructor:           Intermediate (Steve Neeren)/ Beginner (Gotham Board)\nDJ:                     Steve Neeren \n\n\nPizza will be server following the workshop. \nGotham has revised its attendance policies.  Starting with our October 8\, 2022 dance and workshops: \n\nWe will continue to require dancers to provide a phone number or email address for contract tracing purposes but will not be requiring proof of vaccination.\nMasks will not be required.  However\, we support and encourage anyone who wishes to wear a mask and we ask that everyone be respectful of any dancer choosing to wear a mask.\nIf you are not feeling well or have any flu or COVID symptoms\, please practice common sense and stay home for your safety and the safety of our dance community.\n\nGotham will be reviewing these policies regularly and reserves the right to reinstate the vaccination requirement and/or to require proof of an updated booster or masking in the future.
URL:https://gothamswingclub.org/event/gotham-soul-13/
LOCATION:Little Dreams Ballroom\, 412 Eighth Ave 4th Floor\, New York\, NY\, 10001\, United States
END:VEVENT
END:VCALENDAR