BEGIN:VCALENDAR
VERSION:2.0
PRODID:-// - ECPv6.15.20//NONSGML v1.0//EN
CALSCALE:GREGORIAN
METHOD:PUBLISH
X-ORIGINAL-URL:https://gothamswingclub.org
X-WR-CALDESC:Events for 
REFRESH-INTERVAL;VALUE=DURATION:PT1H
X-Robots-Tag:noindex
X-PUBLISHED-TTL:PT1H
BEGIN:VTIMEZONE
TZID:America/New_York
BEGIN:DAYLIGHT
TZOFFSETFROM:-0500
TZOFFSETTO:-0400
TZNAME:EDT
DTSTART:20230312T070000
END:DAYLIGHT
BEGIN:STANDARD
TZOFFSETFROM:-0400
TZOFFSETTO:-0500
TZNAME:EST
DTSTART:20231105T060000
END:STANDARD
BEGIN:DAYLIGHT
TZOFFSETFROM:-0500
TZOFFSETTO:-0400
TZNAME:EDT
DTSTART:20240310T070000
END:DAYLIGHT
BEGIN:STANDARD
TZOFFSETFROM:-0400
TZOFFSETTO:-0500
TZNAME:EST
DTSTART:20241103T060000
END:STANDARD
BEGIN:DAYLIGHT
TZOFFSETFROM:-0500
TZOFFSETTO:-0400
TZNAME:EDT
DTSTART:20250309T070000
END:DAYLIGHT
BEGIN:STANDARD
TZOFFSETFROM:-0400
TZOFFSETTO:-0500
TZNAME:EST
DTSTART:20251102T060000
END:STANDARD
END:VTIMEZONE
BEGIN:VEVENT
DTSTART;TZID=America/New_York:20240803T200000
DTEND;TZID=America/New_York:20240804T000000
DTSTAMP:20260422T054627
CREATED:20240703T113452Z
LAST-MODIFIED:20240703T114316Z
UID:2334-1722715200-1722729600@gothamswingclub.org
SUMMARY:Gotham Soul - w/ Sophie and Vernon
DESCRIPTION:August 3rd\, 8:00 pm – 12:00 am EDT\n\n\nLocation:            Little Dreams – 412 8th Avenue\, 4th Fl\, NYCTime:                  8:00 p.m. – 12:00 a.m. (Lesson at 8:00\, Social starts at 8:30)\nAdmission:         $15 for members / $20 for non-members ($1 transaction fee applies to electronic transactions) \nInstructor:           Intermediate (Sophie Cazeneuve)/ Beginner (Gotham Board) \nDJ:                     Leslie vanArsdale\n\n\nGotham has revised its attendance policies.  Starting with our October 8\, 2022 dance and workshops: \n\nMasks will not be required.  However\, we support and encourage anyone who wishes to wear a mask and we ask that everyone be respectful of any dancer choosing to wear a mask.\nIf you are not feeling well or have any flu or COVID symptoms\, please practice common sense and stay home for your safety and the safety of our dance community.\n\nGotham will be reviewing these policies regularly and reserves the right to reinstate the vaccination requirement and/or to require proof of an updated booster or masking in the future.
URL:https://gothamswingclub.org/event/gotham-soul-w-sophie-and-vernon/
END:VEVENT
END:VCALENDAR